BEGIN:VCALENDAR
VERSION:2.0
PRODID:-//B-29 Doc//NONSGML v1.0//EN
BEGIN:VEVENT
UID:86b901f502ab8e135137f2083b91f3ec@www.b29doc.com
DTSTAMP:20260423T071541Z
DTSTART;VALUE=DATE:20260716
DTEND;VALUE=DATE:20260719
SUMMARY:St. Paul, MN: History Restored Tour
DESCRIPTION:Experience living history up close when the B-29 DOC History Restored Tour lands in St. Paul\, MN\, St. Paul Downtown Airport (Holman Field) from July 16–19\, 2026.
B-29 DOC Flight Experience ride tickets are on sale now. Additional information about public ground and cockpit tours\, as well as general admission\, will be shared soon!
Click HERE to Book Your Seat NOW! 

One of only two remaining airworthy B-29s in the world\, DOC is a meticulously restored World War II bomber that honors the men and women who built\, maintained\, and flew these legendary aircraft. During the History Restored Tour\, visitors of all ages are invited to step inside this iconic aircraft\, explore its history\, and meet the volunteers who keep DOC flying.
What to Expect


 	
Walk-through tours of the B-29 DOC\, allowing you to experience the cockpit\, bomb bay\, and crew compartments

 	
Hands-on history with knowledgeable guides sharing stories of the B-29’s role in WWII

 	
Rare photo opportunities with one of the most famous aircraft in aviation history

 	
Flight experiences available for purchase\, offering the unforgettable chance to fly aboard a genuine B-29 Superfortress


Whether you’re a lifelong aviation enthusiast\, a history buff\, or a family looking for a unique summer experience\, the B-29 DOC tour in St. Paul offers a powerful connection to America’s aviation and military heritage.
Event Details


 	
Location: St. Paul Downtown Airport (Holman Field)

 	
Dates: July 16–19\, 2026


Come see\, touch\, and experience history—DOC is more than an airplane\; it’s a flying tribute to the Greatest Generation.
LOCATION:St. Paul Downtown Airport - Holman Field\, 644 Bayfield Street\, St. Paul\, MN 55107
END:VEVENT
END:VCALENDAR
