BEGIN:VCALENDAR
VERSION:2.0
PRODID:-//B-29 Doc//NONSGML v1.0//EN
BEGIN:VEVENT
UID:bc264522d8cc7a47fb5e8f606a6013a9@www.b29doc.com
DTSTAMP:20260422T093851Z
DTSTART;VALUE=DATE:20260720
DTEND;VALUE=DATE:20260726
SUMMARY:EAA AirVenture 2026: Oshkosh, WI
DESCRIPTION:B-29 DOC will once again be a featured performer at EAA AirVenture Oshkosh (July 20-26\, 2026)\, in Oshkosh\, WI.

DOC’s performance role during the week of AirVenture will showcase and honor not only the men and women who designed\, built and flew B-29s during World War II\, but also to honor the legacy of B-29 service during the Korean War.

DOC will host B-29 DOC Flight Experience rides operating out of Appleton International Airport\, from July 20 through July 23 and will be a featured performer at the air show during the week. The historic warbird will also be on static display for ground and cockpit tours on Boeing Plaza\, Friday and Saturday\, July 24 and 25.

Click HERE to Book Your Seat NOW!
LOCATION:EAA AirVenture 2026: Oshkosh\, WI\, 850 Celebration Way\, Oshkosh\, WI 54902
END:VEVENT
END:VCALENDAR
